BEGIN:VCALENDAR
VERSION:2.0
PRODID:-//http://XXX//Event
METHOD:PUBLISH
BEGIN:VEVENT
DTSTART;VALUE=DATE:20221020
DTEND;VALUE=DATE:20221022
DESCRIPTION;LANGUAGE=en-us:PharmaSUG SDE 2022
SUMMARY;LANGUAGE=en-us:PharmaSUG SDE 2022
LOCATION:Research Triangle Park\, NC
END:VEVENT
END:VCALENDAR